BEGIN:VCALENDAR
VERSION:2.0
PRODID:-//Florida Keys Aquarium Encounters - ECPv6.15.20//NONSGML v1.0//EN
CALSCALE:GREGORIAN
METHOD:PUBLISH
X-ORIGINAL-URL:https://floridakeysaquariumencounters.com
X-WR-CALDESC:Events for Florida Keys Aquarium Encounters
REFRESH-INTERVAL;VALUE=DURATION:PT1H
X-Robots-Tag:noindex
X-PUBLISHED-TTL:PT1H
BEGIN:VTIMEZONE
TZID:America/New_York
BEGIN:DAYLIGHT
TZOFFSETFROM:-0500
TZOFFSETTO:-0400
TZNAME:EDT
DTSTART:20250309T070000
END:DAYLIGHT
BEGIN:STANDARD
TZOFFSETFROM:-0400
TZOFFSETTO:-0500
TZNAME:EST
DTSTART:20251102T060000
END:STANDARD
BEGIN:DAYLIGHT
TZOFFSETFROM:-0500
TZOFFSETTO:-0400
TZNAME:EDT
DTSTART:20260308T070000
END:DAYLIGHT
BEGIN:STANDARD
TZOFFSETFROM:-0400
TZOFFSETTO:-0500
TZNAME:EST
DTSTART:20261101T060000
END:STANDARD
BEGIN:DAYLIGHT
TZOFFSETFROM:-0500
TZOFFSETTO:-0400
TZNAME:EDT
DTSTART:20270314T070000
END:DAYLIGHT
BEGIN:STANDARD
TZOFFSETFROM:-0400
TZOFFSETTO:-0500
TZNAME:EST
DTSTART:20271107T060000
END:STANDARD
END:VTIMEZONE
BEGIN:VEVENT
DTSTART;VALUE=DATE:20260510
DTEND;VALUE=DATE:20260511
DTSTAMP:20260421T065812
CREATED:20251028T170405Z
LAST-MODIFIED:20251028T170405Z
UID:42538-1778371200-1778457599@floridakeysaquariumencounters.com
SUMMARY:National Shrimp Day
DESCRIPTION:
URL:https://floridakeysaquariumencounters.com/event/national-shrimp-day/
CATEGORIES:Aquarium Encounters
END:VEVENT
BEGIN:VEVENT
DTSTART;VALUE=DATE:20260510
DTEND;VALUE=DATE:20260511
DTSTAMP:20260421T065812
CREATED:20251028T173528Z
LAST-MODIFIED:20251028T173528Z
UID:42607-1778371200-1778457599@floridakeysaquariumencounters.com
SUMMARY:Mother's Day
DESCRIPTION:
URL:https://floridakeysaquariumencounters.com/event/mothers-day-2/
CATEGORIES:Aquarium Encounters
END:VEVENT
BEGIN:VEVENT
DTSTART;VALUE=DATE:20260510
DTEND;VALUE=DATE:20260511
DTSTAMP:20260421T065812
CREATED:20260417T204145Z
LAST-MODIFIED:20260417T204145Z
UID:45213-1778371200-1778457599@floridakeysaquariumencounters.com
SUMMARY:Mermaids at FKAE
DESCRIPTION:Join us to see mermaids at Aquarium Encounters.  They will be doing swim shows in our coral reef tank at 11 am and 2 pm.  If you want to interact with the mermaids\, you can book a Coral Reef Encounter with them.  Call the front desk for more information!
URL:https://floridakeysaquariumencounters.com/event/mermaids-at-fkae-2/
CATEGORIES:Aquarium Encounters
END:VEVENT
END:VCALENDAR